BEGIN:VCALENDAR
VERSION:2.0
PRODID:-//Drumfanfare St Martinus - ECPv6.15.20//NONSGML v1.0//EN
CALSCALE:GREGORIAN
METHOD:PUBLISH
X-WR-CALNAME:Drumfanfare St Martinus
X-ORIGINAL-URL:https://drumfanfarestmartinus.nl
X-WR-CALDESC:Evenementen voor Drumfanfare St Martinus
REFRESH-INTERVAL;VALUE=DURATION:PT1H
X-Robots-Tag:noindex
X-PUBLISHED-TTL:PT1H
BEGIN:VTIMEZONE
TZID:UTC
BEGIN:STANDARD
TZOFFSETFROM:+0000
TZOFFSETTO:+0000
TZNAME:UTC
DTSTART:20240101T000000
END:STANDARD
END:VTIMEZONE
BEGIN:VEVENT
DTSTART;TZID=UTC:20250706T100000
DTEND;TZID=UTC:20250706T150000
DTSTAMP:20260425T040029
CREATED:20250205T181521Z
LAST-MODIFIED:20250205T181521Z
UID:852-1751796000-1751814000@drumfanfarestmartinus.nl
SUMMARY:Rommelmarkt Drumfanfare St.Martinus
DESCRIPTION:
URL:https://drumfanfarestmartinus.nl/event/rommelmarkt-drumfanfare-st-martinus/
LOCATION:Ons Eigen Ding\, Manhorstweg 3a\, Greffelkamp
END:VEVENT
BEGIN:VEVENT
DTSTART;VALUE=DATE:20250713
DTEND;VALUE=DATE:20250715
DTSTAMP:20260425T040029
CREATED:20250205T181611Z
LAST-MODIFIED:20250205T181611Z
UID:854-1752364800-1752537599@drumfanfarestmartinus.nl
SUMMARY:Schuttersfeest
DESCRIPTION:
URL:https://drumfanfarestmartinus.nl/event/schuttersfeest/
LOCATION:Ons Eigen Ding\, Manhorstweg 3a\, Greffelkamp
END:VEVENT
END:VCALENDAR