BEGIN:VCALENDAR
VERSION:2.0
PRODID:-//Drumfanfare St Martinus - ECPv6.15.20//NONSGML v1.0//EN
CALSCALE:GREGORIAN
METHOD:PUBLISH
X-WR-CALNAME:Drumfanfare St Martinus
X-ORIGINAL-URL:https://drumfanfarestmartinus.nl
X-WR-CALDESC:Evenementen voor Drumfanfare St Martinus
REFRESH-INTERVAL;VALUE=DURATION:PT1H
X-Robots-Tag:noindex
X-PUBLISHED-TTL:PT1H
BEGIN:VTIMEZONE
TZID:Europe/Amsterdam
BEGIN:DAYLIGHT
TZOFFSETFROM:+0100
TZOFFSETTO:+0200
TZNAME:CEST
DTSTART:20250330T010000
END:DAYLIGHT
BEGIN:STANDARD
TZOFFSETFROM:+0200
TZOFFSETTO:+0100
TZNAME:CET
DTSTART:20251026T010000
END:STANDARD
BEGIN:DAYLIGHT
TZOFFSETFROM:+0100
TZOFFSETTO:+0200
TZNAME:CEST
DTSTART:20260329T010000
END:DAYLIGHT
BEGIN:STANDARD
TZOFFSETFROM:+0200
TZOFFSETTO:+0100
TZNAME:CET
DTSTART:20261025T010000
END:STANDARD
BEGIN:DAYLIGHT
TZOFFSETFROM:+0100
TZOFFSETTO:+0200
TZNAME:CEST
DTSTART:20270328T010000
END:DAYLIGHT
BEGIN:STANDARD
TZOFFSETFROM:+0200
TZOFFSETTO:+0100
TZNAME:CET
DTSTART:20271031T010000
END:STANDARD
BEGIN:DAYLIGHT
TZOFFSETFROM:+0100
TZOFFSETTO:+0200
TZNAME:CEST
DTSTART:20280326T010000
END:DAYLIGHT
BEGIN:STANDARD
TZOFFSETFROM:+0200
TZOFFSETTO:+0100
TZNAME:CET
DTSTART:20281029T010000
END:STANDARD
END:VTIMEZONE
BEGIN:VEVENT
DTSTART;VALUE=DATE:20260419
DTEND;VALUE=DATE:20260420
DTSTAMP:20260425T144456
CREATED:20260313T095903Z
LAST-MODIFIED:20260313T095903Z
UID:1454-1776556800-1776643199@drumfanfarestmartinus.nl
SUMMARY:Kringdag Montferland
DESCRIPTION:Georganiseerd door St. Jan Kilder
URL:https://drumfanfarestmartinus.nl/event/kringdag-montferland-2/
LOCATION:Kilder
END:VEVENT
BEGIN:VEVENT
DTSTART;VALUE=DATE:20260606
DTEND;VALUE=DATE:20260607
DTSTAMP:20260425T144456
CREATED:20260422T103412Z
LAST-MODIFIED:20260422T103412Z
UID:1467-1780704000-1780790399@drumfanfarestmartinus.nl
SUMMARY:Examendag Tambour maître te Nijmegen
DESCRIPTION:Onze Tambour-maître doet examen\, waarin wij hem mogen ondersteunen.
URL:https://drumfanfarestmartinus.nl/event/examendag-tambour-maitre-te-nijmegen/
LOCATION:Nijmegen\, Nijmegen
END:VEVENT
BEGIN:VEVENT
DTSTART;TZID=Europe/Amsterdam:20260705T100000
DTEND;TZID=Europe/Amsterdam:20260705T150000
DTSTAMP:20260425T144456
CREATED:20250709T183548Z
LAST-MODIFIED:20250709T183620Z
UID:1411-1783245600-1783263600@drumfanfarestmartinus.nl
SUMMARY:Rommelmarkt 2026
DESCRIPTION:
URL:https://drumfanfarestmartinus.nl/event/1411/
LOCATION:Ons Eigen Ding\, Manhorstweg 3a\, Greffelkamp
END:VEVENT
BEGIN:VEVENT
DTSTART;TZID=Europe/Amsterdam:20260712T110000
DTEND;TZID=Europe/Amsterdam:20260713T234500
DTSTAMP:20260425T144456
CREATED:20250716T153046Z
LAST-MODIFIED:20250716T153046Z
UID:1420-1783854000-1783986300@drumfanfarestmartinus.nl
SUMMARY:Schuttersfeest 2026
DESCRIPTION:
URL:https://drumfanfarestmartinus.nl/event/schuttersfeest-2026/
LOCATION:Ons Eigen Ding\, Manhorstweg 3a\, Greffelkamp
END:VEVENT
BEGIN:VEVENT
DTSTART;VALUE=DATE:20260906
DTEND;VALUE=DATE:20260907
DTSTAMP:20260425T144456
CREATED:20260422T104301Z
LAST-MODIFIED:20260422T104301Z
UID:1470-1788652800-1788739199@drumfanfarestmartinus.nl
SUMMARY:Federatieve Schuttersdag te Loil
DESCRIPTION:
URL:https://drumfanfarestmartinus.nl/event/federatieve-schuttersdag-te-loil/
END:VEVENT
BEGIN:VEVENT
DTSTART;TZID=Europe/Amsterdam:20261114T160000
DTEND;TZID=Europe/Amsterdam:20261114T200000
DTSTAMP:20260425T144456
CREATED:20260313T095724Z
LAST-MODIFIED:20260313T095724Z
UID:1451-1794672000-1794686400@drumfanfarestmartinus.nl
SUMMARY:St. Martinusfeest
DESCRIPTION:Lampionnenoptocht vanaf Ons eigen ding naar de Maria kerk in Didam. Kerkdienst in de Maria kerk en daarna weer terug.
URL:https://drumfanfarestmartinus.nl/event/st-martinusfeest-2/
LOCATION:Didam
END:VEVENT
BEGIN:VEVENT
DTSTART;TZID=Europe/Amsterdam:20261212T200000
DTEND;TZID=Europe/Amsterdam:20261212T223000
DTSTAMP:20260425T144456
CREATED:20260127T104042Z
LAST-MODIFIED:20260127T104042Z
UID:1442-1797105600-1797114600@drumfanfarestmartinus.nl
SUMMARY:Eindejaarsconcert
DESCRIPTION:Inloop 19:30\, start 20:00\, gratis toegang \nMeer info volgt
URL:https://drumfanfarestmartinus.nl/event/eindejaarsconcert/
LOCATION:Ons Eigen Ding\, Manhorstweg 3a\, Greffelkamp
END:VEVENT
BEGIN:VEVENT
DTSTART;VALUE=DATE:20270418
DTEND;VALUE=DATE:20270419
DTSTAMP:20260425T144456
CREATED:20260422T104401Z
LAST-MODIFIED:20260422T104401Z
UID:1472-1808006400-1808092799@drumfanfarestmartinus.nl
SUMMARY:Kringdag Kring Montferland te Greffelkamp.
DESCRIPTION:
URL:https://drumfanfarestmartinus.nl/event/kringdag-kring-montferland-te-greffelkamp/
END:VEVENT
END:VCALENDAR