BEGIN:VCALENDAR
VERSION:2.0
PRODID:-//Drumfanfare St Martinus - ECPv6.15.20//NONSGML v1.0//EN
CALSCALE:GREGORIAN
METHOD:PUBLISH
X-WR-CALNAME:Drumfanfare St Martinus
X-ORIGINAL-URL:https://drumfanfarestmartinus.nl
X-WR-CALDESC:Evenementen voor Drumfanfare St Martinus
REFRESH-INTERVAL;VALUE=DURATION:PT1H
X-Robots-Tag:noindex
X-PUBLISHED-TTL:PT1H
BEGIN:VTIMEZONE
TZID:UTC
BEGIN:STANDARD
TZOFFSETFROM:+0000
TZOFFSETTO:+0000
TZNAME:UTC
DTSTART:20240101T000000
END:STANDARD
END:VTIMEZONE
BEGIN:VEVENT
DTSTART;VALUE=DATE:20251108
DTEND;VALUE=DATE:20251109
DTSTAMP:20260423T203540
CREATED:20250205T181855Z
LAST-MODIFIED:20250205T181855Z
UID:859-1762560000-1762646399@drumfanfarestmartinus.nl
SUMMARY:St. Martinusfeest
DESCRIPTION:
URL:https://drumfanfarestmartinus.nl/event/st-martinusfeest/
LOCATION:Ons Eigen Ding\, Manhorstweg 3a\, Greffelkamp
END:VEVENT
END:VCALENDAR