BEGIN:VCALENDAR
VERSION:2.0
PRODID:-//Drumfanfare St Martinus - ECPv6.15.20//NONSGML v1.0//EN
CALSCALE:GREGORIAN
METHOD:PUBLISH
X-WR-CALNAME:Drumfanfare St Martinus
X-ORIGINAL-URL:https://drumfanfarestmartinus.nl
X-WR-CALDESC:Evenementen voor Drumfanfare St Martinus
REFRESH-INTERVAL;VALUE=DURATION:PT1H
X-Robots-Tag:noindex
X-PUBLISHED-TTL:PT1H
BEGIN:VTIMEZONE
TZID:Europe/Amsterdam
BEGIN:DAYLIGHT
TZOFFSETFROM:+0100
TZOFFSETTO:+0200
TZNAME:CEST
DTSTART:20240331T010000
END:DAYLIGHT
BEGIN:STANDARD
TZOFFSETFROM:+0200
TZOFFSETTO:+0100
TZNAME:CET
DTSTART:20241027T010000
END:STANDARD
BEGIN:DAYLIGHT
TZOFFSETFROM:+0100
TZOFFSETTO:+0200
TZNAME:CEST
DTSTART:20250330T010000
END:DAYLIGHT
BEGIN:STANDARD
TZOFFSETFROM:+0200
TZOFFSETTO:+0100
TZNAME:CET
DTSTART:20251026T010000
END:STANDARD
BEGIN:DAYLIGHT
TZOFFSETFROM:+0100
TZOFFSETTO:+0200
TZNAME:CEST
DTSTART:20260329T010000
END:DAYLIGHT
BEGIN:STANDARD
TZOFFSETFROM:+0200
TZOFFSETTO:+0100
TZNAME:CET
DTSTART:20261025T010000
END:STANDARD
END:VTIMEZONE
BEGIN:VEVENT
DTSTART;TZID=Europe/Amsterdam:20251019T103000
DTEND;TZID=Europe/Amsterdam:20251019T123000
DTSTAMP:20260425T012732
CREATED:20250917T063202Z
LAST-MODIFIED:20250917T063339Z
UID:1426-1760869800-1760877000@drumfanfarestmartinus.nl
SUMMARY:Workshop Drumfanfare St. Martinus
DESCRIPTION:Zondag 19 oktober Workshop! 🎶\n\n👉 Ben jij iemand die altijd al muziek heeft willen leren spelen? Of heb je al ervaring en zoek je een gezellige vereniging om jouw passie te delen? Dan ben je bij ons van harte welkom!🙌🏻\n\nBij deze workshop kan iedereen meedoen en meekijken voor jong en oud\, ervaren en onervaren! We zorgen voor iets te drinken en entree is gratis! ☕️\n\nJe maakt kennis met onze drumfanfare en alle intrumenten. 🎷🎺 \nKom jij ook?\nIedereen is van harte welkom! 🤗\n\nZondag 18 oktober om 10:30 uur aan de Manhorstweg 3A in Greffelkamp (Didam)
URL:https://drumfanfarestmartinus.nl/event/workshop-drumfanfare-st-martinus/
LOCATION:Ons Eigen Ding\, Manhorstweg 3a\, Greffelkamp
END:VEVENT
END:VCALENDAR